BEGIN:VCALENDAR
VERSION:2.0
PRODID:-//#wmTV.pl - ECPv6.15.15//NONSGML v1.0//EN
CALSCALE:GREGORIAN
METHOD:PUBLISH
X-WR-CALNAME:#wmTV.pl
X-ORIGINAL-URL:https://wmtv.pl
X-WR-CALDESC:Wydarzenia dla #wmTV.pl
REFRESH-INTERVAL;VALUE=DURATION:PT1H
X-Robots-Tag:noindex
X-PUBLISHED-TTL:PT1H
BEGIN:VTIMEZONE
TZID:Europe/Warsaw
BEGIN:DAYLIGHT
TZOFFSETFROM:+0100
TZOFFSETTO:+0200
TZNAME:CEST
DTSTART:20160327T010000
END:DAYLIGHT
BEGIN:STANDARD
TZOFFSETFROM:+0200
TZOFFSETTO:+0100
TZNAME:CET
DTSTART:20161030T010000
END:STANDARD
BEGIN:DAYLIGHT
TZOFFSETFROM:+0100
TZOFFSETTO:+0200
TZNAME:CEST
DTSTART:20170326T010000
END:DAYLIGHT
BEGIN:STANDARD
TZOFFSETFROM:+0200
TZOFFSETTO:+0100
TZNAME:CET
DTSTART:20171029T010000
END:STANDARD
BEGIN:DAYLIGHT
TZOFFSETFROM:+0100
TZOFFSETTO:+0200
TZNAME:CEST
DTSTART:20180325T010000
END:DAYLIGHT
BEGIN:STANDARD
TZOFFSETFROM:+0200
TZOFFSETTO:+0100
TZNAME:CET
DTSTART:20181028T010000
END:STANDARD
END:VTIMEZONE
BEGIN:VEVENT
DTSTART;TZID=Europe/Warsaw:20170610T120000
DTEND;TZID=Europe/Warsaw:20170611T170000
DTSTAMP:20260424T122107
CREATED:20170524T075656Z
LAST-MODIFIED:20170524T075656Z
UID:8916-1497096000-1497200400@wmtv.pl
SUMMARY:Burning Girl
DESCRIPTION:Burning Girl to nie tylko wydarzenie muzyczne\, to społeczność\, która buduje dobro\, która wychodzi poza swoje pragnienia\, aby uszczęśliwić innych. To grupa\, która kocha żyć i chce Cię nauczyć kochać życie. Podczas festiwalu zawsze możesz liczyć na pomocną dłoń\, a każdy kto dołącza do tej rodziny stara się podarować innym radość. \nBurning Girl to także przestrzeń gier\, zabaw i warsztatów by przyjemność łączyć z rozwojem. Naszą misją jest łączyć ludzi i pokazywać\, że w relacjach jest siła. \nHistoria inicjatywy jest krótka\, zwięzła i inspirująca. Wszystko zaczęło się od planów zorganizowania urodzin Kashiry na wzór festiwalu z Black Rock City w Newadzie – Burning Man. Po spotkaniu się z piękną i fascynującą kulturą tamtego miejsca\, Kashira chciała dać jej pierwiastek w rodzinnym Olsztynie. Zainteresowanie wydarzeniem przerosło Nasze oczekiwania\, dlatego dzisiaj Ty możesz o tym czytać i dołączyć do uczestników. Jesteś gotowy\, by przeżyć coś więcej niż festiwal muzyczny? \nPROGRAM \nSOBOTA 10.06.2017 \n12:00 start festiwalu \n12:00 – DO KOŃCA TRWANIA FESTIWALU FIRE STAGE – house – gramy dla was bez przerwy \n12:00 – DO KOŃCA TRWANIA FESTIWALU będą z nami magicy\, cyrkowcy\, grafficiarze\, malarze\, rzeźbiarze\, konstruktorzy\, aktorzy\, tancerze\, muzycy i wielu innych ludzi\, chcących zaprezentować swoje umiejętności. Ty też możesz do nich dołączyć! \n12:00 – 17:00 strefa dla dzieci – w programie m.in. malowanie na folii\, ozdabianie piór\, bransoletki ze starych koszulek\, prace plastyczne z rolek po papierze toaletowym\, bańki mydlane\, malowanie stopami\, malowanie koszulek\, ozdabianie I rozdawanie naszyjników z masy solnej. \n14:00 warsztaty samby brazylijskiej (zapisy) \n15:00 warsztaty djingu (zapisy) \n15:00 warsztaty tworzenia masek ze starej odzieży (zapisy) \n17:00 body painting – daj się pomalować lub pomaluj kogoś (zapisy) \n17:00 warsztaty – biżuteria recyklingowa (zapisy) \n18:00 warsztaty aktorskie (zapisy) \n16:00 – 6:00 ICE STAGE – deep house & chillout \n23:00 – 2:00 STREFA OGNIA – pokazy teatrów ognia i pirotechniczne \n2:00 BURNING GIRL \nFIRE STAGE gra dla was non stop przez cały okres festiwalu \nNIEDZIELA 11.06.2017 \n10:00 – 13:00 darmowe śniadanie z Tyrolską \n15:00 spalenie świątyni \n17:00 zakończenie festiwalu \nTU KUPISZ BILETY
URL:https://wmtv.pl/wydarzenia/burning-girl/
ATTACH;FMTTYPE=image/jpeg:https://wmtv.pl/wp-content/uploads/2017/05/BG_strona_www_gl_foto2.jpg
END:VEVENT
BEGIN:VEVENT
DTSTART;VALUE=DATE:20170610
DTEND;VALUE=DATE:20170611
DTSTAMP:20260424T122107
CREATED:20170523T163050Z
LAST-MODIFIED:20170523T163051Z
UID:8763-1497052800-1497139199@wmtv.pl
SUMMARY:1000 Lakes Dance Cup Olsztyn
DESCRIPTION:
URL:https://wmtv.pl/wydarzenia/1000-lakes-dance-cup-olsztyn/
ATTACH;FMTTYPE=image/jpeg:https://wmtv.pl/wp-content/uploads/2017/05/18519557_10155325891469451_5469879666531361715_n.jpg
END:VEVENT
BEGIN:VEVENT
DTSTART;TZID=Europe/Warsaw:20170603T100000
DTEND;TZID=Europe/Warsaw:20170604T160000
DTSTAMP:20260424T122107
CREATED:20170524T072828Z
LAST-MODIFIED:20170524T072828Z
UID:8912-1496484000-1496592000@wmtv.pl
SUMMARY:REART - drugie życie śmieci
DESCRIPTION:ReART to nowe wydarzenie artystyczne ściśle związane z festiwalem BURNING GIRL. To projekt\, do którego każdy może się dołączyć!!! Przez okres 7 tygodni będziemy zbierać od Was różnego rodzaju śmieci: niepotrzebne sprzęty\, maszyny\, śrubki\, palety\, opony\, materiały\, płyty itd. Każdy piątek miesiąca między 16:00 a 19:00 otwieramy dla Was siedzibę na ul. Dąbrowskiego 3 w Olsztynie\, gdzie będą składowane rzeczy. 9 artystów w weekend 3-4 czerwca dostanie swój przydział śmieci\, z których będzie tworzył prace. Finałowe realizacje zobaczycie na festiwalu BURNING GIRL 10-11 czerwca w Olsztynie. \nReART to nie tylko rzeźba i konstrukcje\, ale także rękodzieło. Podczas wydarzenia będą prowadzone warsztaty z tworzenia kostiumów na festiwal. Przyjdź z torbą starych\, nieużywanych ubrań i zepsutą biżuterią\, bądź innymi gadżetami i stwórz swój niepowtarzalny kostium. Będzie można również zakupić odzież i biżuterię od lokalnych artystów. \n\n\nDołącz do grona czynnych uczestników wydarzenia i podziel się śmieciami 🙂 Zaczynamy już 21 kwietnia! Przyjdź 3-4 czerwca na ul. Dąbrowskiego 3 w Olsztynie i zobacz jak artyści na twoich oczach zmieniają śmieci w dzieła sztuki. \nPRZYJDŹ DO NAS i poczuj moc kreatywności \nzgłoszenia artystów i wystawców prosimy kierować na adres:\nartysci@burninggirl.pl\nwystawcy@burninggirl.pl \nWydarzenie na fb: TUTAJ
URL:https://wmtv.pl/wydarzenia/reart-drugie-zycie-smieci/
ATTACH;FMTTYPE=image/jpeg:https://wmtv.pl/wp-content/uploads/2017/05/17903985_1275849482531099_3980595749870031038_n.jpg
END:VEVENT
BEGIN:VEVENT
DTSTART;TZID=Europe/Warsaw:20170527T210000
DTEND;TZID=Europe/Warsaw:20170527T210000
DTSTAMP:20260424T122107
CREATED:20170523T160735Z
LAST-MODIFIED:20170523T161057Z
UID:8754-1495918800-1495918800@wmtv.pl
SUMMARY:Zenek Martyniuk w Termach Warmińskich
DESCRIPTION:
URL:https://wmtv.pl/wydarzenia/zenek-martyniuk-w-termach-warminskich/
ATTACH;FMTTYPE=image/jpeg:https://wmtv.pl/wp-content/uploads/2017/05/16996215_728883617271357_1744805716187876182_n.jpg
END:VEVENT
END:VCALENDAR