BEGIN:VCALENDAR
VERSION:2.0
PRODID:-//#wmTV.pl - ECPv6.15.15//NONSGML v1.0//EN
CALSCALE:GREGORIAN
METHOD:PUBLISH
X-ORIGINAL-URL:https://wmtv.pl
X-WR-CALDESC:Wydarzenia dla #wmTV.pl
REFRESH-INTERVAL;VALUE=DURATION:PT1H
X-Robots-Tag:noindex
X-PUBLISHED-TTL:PT1H
BEGIN:VTIMEZONE
TZID:Europe/Warsaw
BEGIN:DAYLIGHT
TZOFFSETFROM:+0100
TZOFFSETTO:+0200
TZNAME:CEST
DTSTART:20160327T010000
END:DAYLIGHT
BEGIN:STANDARD
TZOFFSETFROM:+0200
TZOFFSETTO:+0100
TZNAME:CET
DTSTART:20161030T010000
END:STANDARD
BEGIN:DAYLIGHT
TZOFFSETFROM:+0100
TZOFFSETTO:+0200
TZNAME:CEST
DTSTART:20170326T010000
END:DAYLIGHT
BEGIN:STANDARD
TZOFFSETFROM:+0200
TZOFFSETTO:+0100
TZNAME:CET
DTSTART:20171029T010000
END:STANDARD
BEGIN:DAYLIGHT
TZOFFSETFROM:+0100
TZOFFSETTO:+0200
TZNAME:CEST
DTSTART:20180325T010000
END:DAYLIGHT
BEGIN:STANDARD
TZOFFSETFROM:+0200
TZOFFSETTO:+0100
TZNAME:CET
DTSTART:20181028T010000
END:STANDARD
END:VTIMEZONE
BEGIN:VEVENT
DTSTART;TZID=Europe/Warsaw:20170923T210000
DTEND;TZID=Europe/Warsaw:20170924T040000
DTSTAMP:20260422T154552
CREATED:20170918T151056Z
LAST-MODIFIED:20170918T152210Z
UID:11733-1506200400-1506225600@wmtv.pl
SUMMARY:DJ-e PRISONERS SHOW w Arena - Korsze
DESCRIPTION:23 Wrzesień MEGA WYDARZENIE w Arena – Korsze !!! \nUczestnicy Mam Talent !!! czyli Dzieciaki prosto z więzienia !!!! \n⬇⬇⬇ \nDJ-e PRISONERS SHOW \n⬆⬆⬆⬆⬆⬆⬆⬆⬆⬆⬆⬆⬆⬆⬆⬆⬆⬆⬆⬆⬆⬆ \nNa naszej scenie wystąpi duet niepokornych uciekinierów z Alcatraz. \nZza konsoli polecą najlepsze klubowe bity\, nie obędzie się bez aresztowań i kto wie jeszcze czego.\nTak niesamowitej i gorącej nocy w Arenie nie było już dawno\, tak więc obecność obowiązkowa !!! \n☣☣☣☣☣☣☣☣☣☣☣☣☣☣☣☣☣☣☣☣☣☣ \nhttps://www.youtube.com/watch?v=JzTUdBgXKVM \n☣☣☣☣☣☣☣☣☣☣☣☣☣☣☣☣☣☣☣☣☣☣
URL:https://wmtv.pl/wydarzenia/dj-e-prisoners-show-arena-korsze/
ATTACH;FMTTYPE=image/jpeg:https://wmtv.pl/wp-content/uploads/2017/09/21641013_1568747263177516_4832670694806789606_o.jpg
END:VEVENT
END:VCALENDAR